BEGIN:VCALENDAR
VERSION:2.0
PRODID:-//Irish PDX - ECPv6.15.20//NONSGML v1.0//EN
CALSCALE:GREGORIAN
METHOD:PUBLISH
X-ORIGINAL-URL:https://irishpdx.com
X-WR-CALDESC:Events for Irish PDX
REFRESH-INTERVAL;VALUE=DURATION:PT1H
X-Robots-Tag:noindex
X-PUBLISHED-TTL:PT1H
BEGIN:VTIMEZONE
TZID:America/Los_Angeles
BEGIN:DAYLIGHT
TZOFFSETFROM:-0800
TZOFFSETTO:-0700
TZNAME:PDT
DTSTART:20220313T100000
END:DAYLIGHT
BEGIN:STANDARD
TZOFFSETFROM:-0700
TZOFFSETTO:-0800
TZNAME:PST
DTSTART:20221106T090000
END:STANDARD
BEGIN:DAYLIGHT
TZOFFSETFROM:-0800
TZOFFSETTO:-0700
TZNAME:PDT
DTSTART:20230312T100000
END:DAYLIGHT
BEGIN:STANDARD
TZOFFSETFROM:-0700
TZOFFSETTO:-0800
TZNAME:PST
DTSTART:20231105T090000
END:STANDARD
BEGIN:DAYLIGHT
TZOFFSETFROM:-0800
TZOFFSETTO:-0700
TZNAME:PDT
DTSTART:20240310T100000
END:DAYLIGHT
BEGIN:STANDARD
TZOFFSETFROM:-0700
TZOFFSETTO:-0800
TZNAME:PST
DTSTART:20241103T090000
END:STANDARD
END:VTIMEZONE
BEGIN:VEVENT
DTSTART;TZID=America/Los_Angeles:20231201T193000
DTEND;TZID=America/Los_Angeles:20231201T230000
DTSTAMP:20260425T032038
CREATED:20231103T183434Z
LAST-MODIFIED:20231103T183434Z
UID:10000349-1701459000-1701471600@irishpdx.com
SUMMARY:1st Friday Ceili Mor with Kate and the Lads and Annual food drive
DESCRIPTION:1st Friday Ceili Mor – BIG Live Music\, Irish Folk Dance & Annual Tualatin Schoolhouse Food Drive \nMusic by Kate and the Lads! \nFriday\, December 1\, 2023 \nEvent Start: 8 PM – 11 PM\nDoors Open: 7:15 PM \nEvent Website: Irish PDX \nAnnual Food Drive for the Tualatin Schoolhouse Food Panty. Please bring-non-perishables. \nLive music on the first Friday’s of the month\, October through May. Lessons start around 7:45 pm\, with dancing until 11:00 pm. All dances are taught and called as you enjoy the tunes of Ireland! \nOur purpose is to provide the best music through concerts\, workshops\, sessions\, and dance through classes and ceilis for YOU. By doing so\, we are keeping Irish Trad alive and well. “A workout for the body\, mind\, and smile!” \nWinona Grange is not wheelchair accessible. \nFree on-site\, street\, and city parking are available. \nTickets:\nOnline GA ticket https://www.tickettomato.com/event/8210/ – $10\nDoor GA ticket – $15
URL:https://irishpdx.com/event/1st-friday-ceili-mor-with-kate-and-the-lads-and-annual-food-drive/
LOCATION:Winona Grange 271\, 8340 SW Seneca St\, Tualatin\, OR\, 97062\, United States
CATEGORIES:Dance
ORGANIZER;CN="IrishPDX":MAILTO:sam.keator@frontier.com
GEO:45.383179;-122.7623085
X-APPLE-STRUCTURED-LOCATION;VALUE=URI;X-ADDRESS=Winona Grange 271 8340 SW Seneca St Tualatin OR 97062 United States;X-APPLE-RADIUS=500;X-TITLE=8340 SW Seneca St:geo:-122.7623085,45.383179
END:VEVENT
BEGIN:VEVENT
DTSTART;TZID=America/Los_Angeles:20231207T190000
DTEND;TZID=America/Los_Angeles:20231207T210000
DTSTAMP:20260425T032038
CREATED:20231201T174536Z
LAST-MODIFIED:20231201T174536Z
UID:10000221-1701975600-1701982800@irishpdx.com
SUMMARY:Ceili class\, drop on in!
DESCRIPTION:Just $10/week for the Winds of Donegal classes. Every Thursday we teach you the basics of the three’s\, seven’s and jig steps so that you can enjoy the live music ceili’s around Portland and Ireland. \nClasses are geared toward 13 and older \nBring a water bottle and wear comfortable shoes not heels. \nNo partner or experience needed\, just smiles and the want to have fun! \nA wee clip of a live ceili https://www.youtube.com/watch?v=onbO0vfyDoU
URL:https://irishpdx.com/event/ceili-class-drop-on-in/
LOCATION:Winona Grange 271\, 8340 SW Seneca St\, Tualatin\, OR\, 97062\, United States
CATEGORIES:Dance
ORGANIZER;CN="IrishPDX":MAILTO:sam.keator@frontier.com
GEO:45.383179;-122.7623085
X-APPLE-STRUCTURED-LOCATION;VALUE=URI;X-ADDRESS=Winona Grange 271 8340 SW Seneca St Tualatin OR 97062 United States;X-APPLE-RADIUS=500;X-TITLE=8340 SW Seneca St:geo:-122.7623085,45.383179
END:VEVENT
END:VCALENDAR