BEGIN:VCALENDAR
VERSION:2.0
PRODID:-//Irish PDX - ECPv6.15.20//NONSGML v1.0//EN
CALSCALE:GREGORIAN
METHOD:PUBLISH
X-ORIGINAL-URL:https://irishpdx.com
X-WR-CALDESC:Events for Irish PDX
REFRESH-INTERVAL;VALUE=DURATION:PT1H
X-Robots-Tag:noindex
X-PUBLISHED-TTL:PT1H
BEGIN:VTIMEZONE
TZID:America/Los_Angeles
BEGIN:DAYLIGHT
TZOFFSETFROM:-0800
TZOFFSETTO:-0700
TZNAME:PDT
DTSTART:20220313T100000
END:DAYLIGHT
BEGIN:STANDARD
TZOFFSETFROM:-0700
TZOFFSETTO:-0800
TZNAME:PST
DTSTART:20221106T090000
END:STANDARD
BEGIN:DAYLIGHT
TZOFFSETFROM:-0800
TZOFFSETTO:-0700
TZNAME:PDT
DTSTART:20230312T100000
END:DAYLIGHT
BEGIN:STANDARD
TZOFFSETFROM:-0700
TZOFFSETTO:-0800
TZNAME:PST
DTSTART:20231105T090000
END:STANDARD
BEGIN:DAYLIGHT
TZOFFSETFROM:-0800
TZOFFSETTO:-0700
TZNAME:PDT
DTSTART:20240310T100000
END:DAYLIGHT
BEGIN:STANDARD
TZOFFSETFROM:-0700
TZOFFSETTO:-0800
TZNAME:PST
DTSTART:20241103T090000
END:STANDARD
BEGIN:DAYLIGHT
TZOFFSETFROM:-0800
TZOFFSETTO:-0700
TZNAME:PDT
DTSTART:20250309T100000
END:DAYLIGHT
BEGIN:STANDARD
TZOFFSETFROM:-0700
TZOFFSETTO:-0800
TZNAME:PST
DTSTART:20251102T090000
END:STANDARD
BEGIN:DAYLIGHT
TZOFFSETFROM:-0800
TZOFFSETTO:-0700
TZNAME:PDT
DTSTART:20260308T100000
END:DAYLIGHT
BEGIN:STANDARD
TZOFFSETFROM:-0700
TZOFFSETTO:-0800
TZNAME:PST
DTSTART:20261101T090000
END:STANDARD
BEGIN:DAYLIGHT
TZOFFSETFROM:-0800
TZOFFSETTO:-0700
TZNAME:PDT
DTSTART:20270314T100000
END:DAYLIGHT
BEGIN:STANDARD
TZOFFSETFROM:-0700
TZOFFSETTO:-0800
TZNAME:PST
DTSTART:20271107T090000
END:STANDARD
END:VTIMEZONE
BEGIN:VEVENT
DTSTART;TZID=America/Los_Angeles:20260411T193000
DTEND;TZID=America/Los_Angeles:20260411T220000
DTSTAMP:20260424T194901
CREATED:20250528T201729Z
LAST-MODIFIED:20260320T134520Z
UID:10000726-1775935800-1775944800@irishpdx.com
SUMMARY:TRADMILL - April 11\, 2026 - 2nd Saturday Community Concert
DESCRIPTION:Doors 6:45\, show 7:30pm \nTickets
URL:https://irishpdx.com/event/tradmill-april-11-2026-2nd-saturday-community-concert/
LOCATION:Winona Grange 271\, 8340 SW Seneca St\, Tualatin\, OR\, 97062\, United States
CATEGORIES:Concert
ORGANIZER;CN="IrishPDX":MAILTO:sam.keator@frontier.com
GEO:45.383179;-122.7623085
X-APPLE-STRUCTURED-LOCATION;VALUE=URI;X-ADDRESS=Winona Grange 271 8340 SW Seneca St Tualatin OR 97062 United States;X-APPLE-RADIUS=500;X-TITLE=8340 SW Seneca St:geo:-122.7623085,45.383179
END:VEVENT
BEGIN:VEVENT
DTSTART;TZID=America/Los_Angeles:20260314T193000
DTEND;TZID=America/Los_Angeles:20260314T220000
DTSTAMP:20260424T194901
CREATED:20250701T035851Z
LAST-MODIFIED:20250701T035851Z
UID:10000729-1773516600-1773525600@irishpdx.com
SUMMARY:Gerry O'Connor - 2nd Saturday Community Concert - Let St Patrick's Day begin
DESCRIPTION:Tickets are available at https://www.tickettomato.com/event/9532 for March 14\, 2026
URL:https://irishpdx.com/event/gerry-oconnor-2nd-saturday-community-concert-let-st-patricks-day-begin/
LOCATION:Winona Grange 271\, 8340 SW Seneca St\, Tualatin\, OR\, 97062\, United States
CATEGORIES:Concert
ORGANIZER;CN="IrishPDX":MAILTO:sam.keator@frontier.com
GEO:45.383179;-122.7623085
X-APPLE-STRUCTURED-LOCATION;VALUE=URI;X-ADDRESS=Winona Grange 271 8340 SW Seneca St Tualatin OR 97062 United States;X-APPLE-RADIUS=500;X-TITLE=8340 SW Seneca St:geo:-122.7623085,45.383179
END:VEVENT
BEGIN:VEVENT
DTSTART;TZID=America/Los_Angeles:20260110T193000
DTEND;TZID=America/Los_Angeles:20260110T213000
DTSTAMP:20260424T194901
CREATED:20250502T175439Z
LAST-MODIFIED:20250502T175439Z
UID:10000724-1768073400-1768080600@irishpdx.com
SUMMARY:Dallahan - 2nd Saturday Community Concert - Live from Scotland - Winona Grange
DESCRIPTION:Doors 6:45\, show 7:30pm \nTickets at https://www.tickettomato.com/event/9403/dallahan-2nd-saturday-community-concert-live-from-scotland
URL:https://irishpdx.com/event/dallahan-2nd-saturday-community-concert-live-from-scotland-winona-grange/
LOCATION:Winona Grange 271\, 8340 SW Seneca St\, Tualatin\, OR\, 97062\, United States
CATEGORIES:Concert
ORGANIZER;CN="IrishPDX":MAILTO:sam.keator@frontier.com
GEO:45.383179;-122.7623085
X-APPLE-STRUCTURED-LOCATION;VALUE=URI;X-ADDRESS=Winona Grange 271 8340 SW Seneca St Tualatin OR 97062 United States;X-APPLE-RADIUS=500;X-TITLE=8340 SW Seneca St:geo:-122.7623085,45.383179
END:VEVENT
BEGIN:VEVENT
DTSTART;TZID=America/Los_Angeles:20251108T193000
DTEND;TZID=America/Los_Angeles:20251108T220000
DTSTAMP:20260424T194901
CREATED:20250711T194356Z
LAST-MODIFIED:20251102T214535Z
UID:10000730-1762630200-1762639200@irishpdx.com
SUMMARY:The Horsenecks - 2nd Saturday Community Concert - CANCELLED
DESCRIPTION:Sorry the show is cancelled
URL:https://irishpdx.com/event/the-horsenecks-2nd-saturday-community-concert/
LOCATION:Winona Grange 271\, 8340 SW Seneca St\, Tualatin\, OR\, 97062\, United States
CATEGORIES:Concert
ORGANIZER;CN="IrishPDX":MAILTO:sam.keator@frontier.com
GEO:45.383179;-122.7623085
X-APPLE-STRUCTURED-LOCATION;VALUE=URI;X-ADDRESS=Winona Grange 271 8340 SW Seneca St Tualatin OR 97062 United States;X-APPLE-RADIUS=500;X-TITLE=8340 SW Seneca St:geo:-122.7623085,45.383179
END:VEVENT
BEGIN:VEVENT
DTSTART;TZID=America/Los_Angeles:20251011T193000
DTEND;TZID=America/Los_Angeles:20251011T220000
DTSTAMP:20260424T194901
CREATED:20250519T181210Z
LAST-MODIFIED:20250903T150854Z
UID:10000725-1760211000-1760220000@irishpdx.com
SUMMARY:2nd Saturday Community Concert - Soulard Boys\, Johnny Connolly\, Kevin Buckley\, Cary Novotny\, and Dan Lowery
DESCRIPTION:More info and tickets at https://www.tickettomato.com/event/9464
URL:https://irishpdx.com/event/colin-farrell-johnny-connolly-and-cary-novotny-kick-off-2nd-saturday-community-concerts-25-26/
LOCATION:Winona Grange 271\, 8340 SW Seneca St\, Tualatin\, OR\, 97062\, United States
ORGANIZER;CN="IrishPDX":MAILTO:sam.keator@frontier.com
GEO:45.383179;-122.7623085
X-APPLE-STRUCTURED-LOCATION;VALUE=URI;X-ADDRESS=Winona Grange 271 8340 SW Seneca St Tualatin OR 97062 United States;X-APPLE-RADIUS=500;X-TITLE=8340 SW Seneca St:geo:-122.7623085,45.383179
END:VEVENT
BEGIN:VEVENT
DTSTART;TZID=America/Los_Angeles:20250412T193000
DTEND;TZID=America/Los_Angeles:20250412T213000
DTSTAMP:20260424T194901
CREATED:20240622T165056Z
LAST-MODIFIED:20240622T165056Z
UID:10000440-1744486200-1744493400@irishpdx.com
SUMMARY:Bon Debarras - 2nd Saturday Community Concert
DESCRIPTION:Tickets and more info
URL:https://irishpdx.com/event/bon-debarras-2nd-saturday-community-concert/
LOCATION:Winona Grange 271\, 8340 SW Seneca St\, Tualatin\, OR\, 97062\, United States
CATEGORIES:Concert,Dance
ORGANIZER;CN="IrishPDX":MAILTO:sam.keator@frontier.com
GEO:45.383179;-122.7623085
X-APPLE-STRUCTURED-LOCATION;VALUE=URI;X-ADDRESS=Winona Grange 271 8340 SW Seneca St Tualatin OR 97062 United States;X-APPLE-RADIUS=500;X-TITLE=8340 SW Seneca St:geo:-122.7623085,45.383179
END:VEVENT
BEGIN:VEVENT
DTSTART;TZID=America/Los_Angeles:20241109T193000
DTEND;TZID=America/Los_Angeles:20241109T213000
DTSTAMP:20260424T194901
CREATED:20240327T180024Z
LAST-MODIFIED:20240329T172034Z
UID:10000229-1731180600-1731187800@irishpdx.com
SUMMARY:The Legends of the Celtic Harp -2nd Saturday Community Concert
DESCRIPTION:Tickets for Nov 9th
URL:https://irishpdx.com/event/the-legends-of-the-celtic-harp-2nd-saturday-community-concert/
LOCATION:Winona Grange 271\, 8340 SW Seneca St\, Tualatin\, OR\, 97062\, United States
CATEGORIES:Concert
ORGANIZER;CN="IrishPDX":MAILTO:sam.keator@frontier.com
GEO:45.383179;-122.7623085
X-APPLE-STRUCTURED-LOCATION;VALUE=URI;X-ADDRESS=Winona Grange 271 8340 SW Seneca St Tualatin OR 97062 United States;X-APPLE-RADIUS=500;X-TITLE=8340 SW Seneca St:geo:-122.7623085,45.383179
END:VEVENT
BEGIN:VEVENT
DTSTART;TZID=America/Los_Angeles:20241020T193000
DTEND;TZID=America/Los_Angeles:20241020T213000
DTSTAMP:20260424T194901
CREATED:20240323T151731Z
LAST-MODIFIED:20240623T174817Z
UID:10000227-1729452600-1729459800@irishpdx.com
SUMMARY:Daimh – Special Celtic Event
DESCRIPTION:DAIMH – Returns – LIVE All-Community Concert on Sunday Oct 20\, 2024 \nTickets \nDoors open: 6:45 pm\nEvent begins: 7:30 pm \nBand Website: DAIMH \nDaimh\, a Gaelic Super-group and unchallenged champions of straight-in-the-eye Highland music is based around West Lochaber and the Isle of Skye. Joining the force on this tour is the world-known fiddler Alasdair White!
URL:https://irishpdx.com/event/daimh/
LOCATION:Winona Grange 271\, 8340 SW Seneca St\, Tualatin\, OR\, 97062\, United States
CATEGORIES:Concert
ORGANIZER;CN="IrishPDX":MAILTO:sam.keator@frontier.com
GEO:45.383179;-122.7623085
X-APPLE-STRUCTURED-LOCATION;VALUE=URI;X-ADDRESS=Winona Grange 271 8340 SW Seneca St Tualatin OR 97062 United States;X-APPLE-RADIUS=500;X-TITLE=8340 SW Seneca St:geo:-122.7623085,45.383179
END:VEVENT
BEGIN:VEVENT
DTSTART;TZID=America/Los_Angeles:20241012T193000
DTEND;TZID=America/Los_Angeles:20241012T213000
DTSTAMP:20260424T194901
CREATED:20240327T175743Z
LAST-MODIFIED:20240329T181625Z
UID:10000228-1728761400-1728768600@irishpdx.com
SUMMARY:Golden Bough - Kickoff 2nd Saturday Community Concert series 24-25
DESCRIPTION:Tickets for this concert and more info
URL:https://irishpdx.com/event/golden-bough-kickoff-2nd-saturday-community-concert-series-24-25/
LOCATION:Winona Grange 271\, 8340 SW Seneca St\, Tualatin\, OR\, 97062\, United States
CATEGORIES:Concert
ORGANIZER;CN="IrishPDX":MAILTO:sam.keator@frontier.com
GEO:45.383179;-122.7623085
X-APPLE-STRUCTURED-LOCATION;VALUE=URI;X-ADDRESS=Winona Grange 271 8340 SW Seneca St Tualatin OR 97062 United States;X-APPLE-RADIUS=500;X-TITLE=8340 SW Seneca St:geo:-122.7623085,45.383179
END:VEVENT
BEGIN:VEVENT
DTSTART;TZID=America/Los_Angeles:20240413T193000
DTEND;TZID=America/Los_Angeles:20240413T220000
DTSTAMP:20260424T194901
CREATED:20230708T135316Z
LAST-MODIFIED:20240303T185129Z
UID:10000334-1713036600-1713045600@irishpdx.com
SUMMARY:Dick Hensold and Patsy O'Brien - 2nd Saturday Community Concert
DESCRIPTION:Doors 6:45\, show 7:30pm \nTickets and info at https://www.tickettomato.com/event/8193/
URL:https://irishpdx.com/event/dick-hensold-and-patsy-obrien-2nd-saturday-community-concert/
LOCATION:Winona Grange 271\, 8340 SW Seneca St\, Tualatin\, OR\, 97062\, United States
CATEGORIES:Concert
ORGANIZER;CN="IrishPDX":MAILTO:sam.keator@frontier.com
GEO:45.383179;-122.7623085
X-APPLE-STRUCTURED-LOCATION;VALUE=URI;X-ADDRESS=Winona Grange 271 8340 SW Seneca St Tualatin OR 97062 United States;X-APPLE-RADIUS=500;X-TITLE=8340 SW Seneca St:geo:-122.7623085,45.383179
END:VEVENT
BEGIN:VEVENT
DTSTART;TZID=America/Los_Angeles:20240310T153000
DTEND;TZID=America/Los_Angeles:20240310T190000
DTSTAMP:20260424T194901
CREATED:20230811T141536Z
LAST-MODIFIED:20240303T185320Z
UID:10000346-1710084600-1710097200@irishpdx.com
SUMMARY:7th Annual Shamrock Cruise - March 10\, 2024 4-7pm
DESCRIPTION:All aboard the Portland Spirit! \nFull info and tickets at TicketTomato
URL:https://irishpdx.com/event/7th-annual-shamrock-cruise-march-10-2024-4-7pm/
LOCATION:Portland Spirit\, 110 SE Caruthers St\, Portland\, OR\, United States
CATEGORIES:Concert,Dance
ORGANIZER;CN="IrishPDX":MAILTO:sam.keator@frontier.com
GEO:45.5153495;-122.6732909
X-APPLE-STRUCTURED-LOCATION;VALUE=URI;X-ADDRESS=Portland Spirit 110 SE Caruthers St Portland OR United States;X-APPLE-RADIUS=500;X-TITLE=110 SE Caruthers St:geo:-122.6732909,45.5153495
END:VEVENT
BEGIN:VEVENT
DTSTART;TZID=America/Los_Angeles:20240309T193000
DTEND;TZID=America/Los_Angeles:20240309T213000
DTSTAMP:20260424T194901
CREATED:20231210T162528Z
LAST-MODIFIED:20240303T185415Z
UID:10000222-1710012600-1710019800@irishpdx.com
SUMMARY:The Badlanders - 2nd Saturday Community Concert
DESCRIPTION:“The best in the West” The Badlanders are a new country band and brainchild of South Dakota native Cary Novotny and take their namesake from the unique\, desolate natural wonder known as the Badlands. \nTickets https://www.tickettomato.com/event/8309/the-badlanders-2nd-saturday-community-concert
URL:https://irishpdx.com/event/the-badlanders-2nd-saturday-community-concert/
LOCATION:Winona Grange 271\, 8340 SW Seneca St\, Tualatin\, OR\, 97062\, United States
CATEGORIES:Concert
ORGANIZER;CN="IrishPDX":MAILTO:sam.keator@frontier.com
GEO:45.383179;-122.7623085
X-APPLE-STRUCTURED-LOCATION;VALUE=URI;X-ADDRESS=Winona Grange 271 8340 SW Seneca St Tualatin OR 97062 United States;X-APPLE-RADIUS=500;X-TITLE=8340 SW Seneca St:geo:-122.7623085,45.383179
END:VEVENT
BEGIN:VEVENT
DTSTART;TZID=America/Los_Angeles:20240202T193000
DTEND;TZID=America/Los_Angeles:20240202T230000
DTSTAMP:20260424T194901
CREATED:20231219T152423Z
LAST-MODIFIED:20231219T152423Z
UID:10000223-1706902200-1706914800@irishpdx.com
SUMMARY:1st Friday Ceili Mor with the B.E.E. side ceili band
DESCRIPTION:Bob Soper\, Eddie Parente and Erik Killops!
URL:https://irishpdx.com/event/1st-friday-ceili-mor-with-the-b-e-e-side-ceili-band/
LOCATION:Winona Grange 271\, 8340 SW Seneca St\, Tualatin\, OR\, 97062\, United States
CATEGORIES:Dance
ORGANIZER;CN="IrishPDX":MAILTO:sam.keator@frontier.com
GEO:45.383179;-122.7623085
X-APPLE-STRUCTURED-LOCATION;VALUE=URI;X-ADDRESS=Winona Grange 271 8340 SW Seneca St Tualatin OR 97062 United States;X-APPLE-RADIUS=500;X-TITLE=8340 SW Seneca St:geo:-122.7623085,45.383179
END:VEVENT
BEGIN:VEVENT
DTSTART;TZID=America/Los_Angeles:20231209T193000
DTEND;TZID=America/Los_Angeles:20231209T220000
DTSTAMP:20260424T194901
CREATED:20230708T135822Z
LAST-MODIFIED:20231209T181403Z
UID:10000333-1702150200-1702159200@irishpdx.com
SUMMARY:Winter Songs - 2nd Saturday Community Concert & Annual food drive - YES seats available at the door 6:45pm
DESCRIPTION:Please bring non-perishables for the Tualatin School House Food Pantry \nDoor 6:45\, show 7:30pm \n  \nInfo and tickets at https://www.tickettomato.com/event/8194
URL:https://irishpdx.com/event/winter-songs-2nd-saturday-community-concert-annual-food-drive/
LOCATION:Winona Grange 271\, 8340 SW Seneca St\, Tualatin\, OR\, 97062\, United States
CATEGORIES:Concert
ORGANIZER;CN="IrishPDX":MAILTO:sam.keator@frontier.com
GEO:45.383179;-122.7623085
X-APPLE-STRUCTURED-LOCATION;VALUE=URI;X-ADDRESS=Winona Grange 271 8340 SW Seneca St Tualatin OR 97062 United States;X-APPLE-RADIUS=500;X-TITLE=8340 SW Seneca St:geo:-122.7623085,45.383179
END:VEVENT
BEGIN:VEVENT
DTSTART;TZID=America/Los_Angeles:20231111T193000
DTEND;TZID=America/Los_Angeles:20231111T213000
DTSTAMP:20260424T194901
CREATED:20230710T225402Z
LAST-MODIFIED:20230713T182121Z
UID:10000342-1699731000-1699738200@irishpdx.com
SUMMARY:Phoenix - 2nd Saturday Community Concert
DESCRIPTION:Doors 6:45\, show 7:30 \n  \nMore info and tickets are at https://www.tickettomato.com/event/8197
URL:https://irishpdx.com/event/phoenix-2nd-saturday-community-concert/
LOCATION:Winona Grange 271\, 8340 SW Seneca St\, Tualatin\, OR\, 97062\, United States
CATEGORIES:Concert
ORGANIZER;CN="IrishPDX":MAILTO:sam.keator@frontier.com
GEO:45.383179;-122.7623085
X-APPLE-STRUCTURED-LOCATION;VALUE=URI;X-ADDRESS=Winona Grange 271 8340 SW Seneca St Tualatin OR 97062 United States;X-APPLE-RADIUS=500;X-TITLE=8340 SW Seneca St:geo:-122.7623085,45.383179
END:VEVENT
BEGIN:VEVENT
DTSTART;TZID=America/Los_Angeles:20231103T193000
DTEND;TZID=America/Los_Angeles:20231103T230000
DTSTAMP:20260424T194901
CREATED:20230809T021450Z
LAST-MODIFIED:20230809T021450Z
UID:10000345-1699039800-1699052400@irishpdx.com
SUMMARY:1st Friday Ceili Mor - Katie Jane Band
DESCRIPTION:Winona Grange 271 8340 SW Seneca St\, Tualatin\, OR\, United States\n\n\nKatie Jane Band ! Playing the tunes! $15 all at the door or $10 via TIX \n\n$15
URL:https://irishpdx.com/event/1st-friday-ceili-mor-katie-jane-band/
LOCATION:Winona Grange 271\, 8340 SW Seneca St\, Tualatin\, OR\, 97062\, United States
CATEGORIES:Dance
ORGANIZER;CN="IrishPDX":MAILTO:sam.keator@frontier.com
GEO:45.383179;-122.7623085
X-APPLE-STRUCTURED-LOCATION;VALUE=URI;X-ADDRESS=Winona Grange 271 8340 SW Seneca St Tualatin OR 97062 United States;X-APPLE-RADIUS=500;X-TITLE=8340 SW Seneca St:geo:-122.7623085,45.383179
END:VEVENT
BEGIN:VEVENT
DTSTART;TZID=America/Los_Angeles:20231006T193000
DTEND;TZID=America/Los_Angeles:20231006T230000
DTSTAMP:20260424T194901
CREATED:20230720T144850Z
LAST-MODIFIED:20230808T182812Z
UID:10000344-1696620600-1696633200@irishpdx.com
SUMMARY:1st Friday Ceili Mor - Season kick-off
DESCRIPTION:Mikey Beglan leading the way! $15 all at the door or $10 via TIX
URL:https://irishpdx.com/event/1st-friday-ceili-mor-season-kick-off/
LOCATION:Winona Grange 271\, 8340 SW Seneca St\, Tualatin\, OR\, 97062\, United States
CATEGORIES:Dance
ORGANIZER;CN="IrishPDX":MAILTO:sam.keator@frontier.com
GEO:45.383179;-122.7623085
X-APPLE-STRUCTURED-LOCATION;VALUE=URI;X-ADDRESS=Winona Grange 271 8340 SW Seneca St Tualatin OR 97062 United States;X-APPLE-RADIUS=500;X-TITLE=8340 SW Seneca St:geo:-122.7623085,45.383179
END:VEVENT
BEGIN:VEVENT
DTSTART;TZID=America/Los_Angeles:20230408T193000
DTEND;TZID=America/Los_Angeles:20230408T213000
DTSTAMP:20260424T194901
CREATED:20230305T195128Z
LAST-MODIFIED:20230305T195128Z
UID:10000341-1680982200-1680989400@irishpdx.com
SUMMARY:John Whelan - 2nd Saturday Community Concert
DESCRIPTION:doors 6:45\, show 7:30 for the 7 time world champion accordion player\, John Whelan!  All-community. Tickets at https://www.tickettomato.com/event/7811/john-whelan-2nd-saturday-community-concert door is $25
URL:https://irishpdx.com/event/john-whelan-2nd-saturday-community-concert/
LOCATION:Winona Grange 271\, 8340 SW Seneca St\, Tualatin\, OR\, 97062\, United States
CATEGORIES:Concert
ORGANIZER;CN="IrishPDX":MAILTO:sam.keator@frontier.com
GEO:45.383179;-122.7623085
X-APPLE-STRUCTURED-LOCATION;VALUE=URI;X-ADDRESS=Winona Grange 271 8340 SW Seneca St Tualatin OR 97062 United States;X-APPLE-RADIUS=500;X-TITLE=8340 SW Seneca St:geo:-122.7623085,45.383179
END:VEVENT
BEGIN:VEVENT
DTSTART;TZID=America/Los_Angeles:20230407T193000
DTEND;TZID=America/Los_Angeles:20230407T230000
DTSTAMP:20260424T194901
CREATED:20230305T195458Z
LAST-MODIFIED:20230326T154706Z
UID:10000340-1680895800-1680908400@irishpdx.com
SUMMARY:1st Friday - Irish Ceili Mor with John Whelan
DESCRIPTION:Yes\, John will be playing for Samuel’s birth month Irish folk dance! \nWee lesson at 7:45ish\, then all dances will be taught and called as you enjoy yourselves.
URL:https://irishpdx.com/event/1st-saturday-irish-ceili-mor-with-john-whelan/
LOCATION:Winona Grange 271\, 8340 SW Seneca St\, Tualatin\, OR\, 97062\, United States
CATEGORIES:Dance
ORGANIZER;CN="IrishPDX":MAILTO:sam.keator@frontier.com
GEO:45.383179;-122.7623085
X-APPLE-STRUCTURED-LOCATION;VALUE=URI;X-ADDRESS=Winona Grange 271 8340 SW Seneca St Tualatin OR 97062 United States;X-APPLE-RADIUS=500;X-TITLE=8340 SW Seneca St:geo:-122.7623085,45.383179
END:VEVENT
BEGIN:VEVENT
DTSTART;TZID=America/Los_Angeles:20230303T193000
DTEND;TZID=America/Los_Angeles:20230303T230000
DTSTAMP:20260424T194901
CREATED:20230217T173907Z
LAST-MODIFIED:20230218T211754Z
UID:10000314-1677871800-1677884400@irishpdx.com
SUMMARY:1st Friday Ceili Mor with Randal Bays - St. Patrick's kickoff
DESCRIPTION:Randal Bays\, Mikey Beglan and Teresa Baker are kicking March in gear. Starting at 7:30. $10 all \nPlease note that this is not a by invite only or private event. All dances are taught and called so that everyone has fun. Please 13 and older.
URL:https://irishpdx.com/event/1st-friday-ceili-mor-with-randal-bays-st-patricks-kickoff/
LOCATION:Winona Grange 271\, 8340 SW Seneca St\, Tualatin\, OR\, 97062\, United States
CATEGORIES:Dance
ORGANIZER;CN="IrishPDX":MAILTO:sam.keator@frontier.com
GEO:45.383179;-122.7623085
X-APPLE-STRUCTURED-LOCATION;VALUE=URI;X-ADDRESS=Winona Grange 271 8340 SW Seneca St Tualatin OR 97062 United States;X-APPLE-RADIUS=500;X-TITLE=8340 SW Seneca St:geo:-122.7623085,45.383179
END:VEVENT
END:VCALENDAR