BEGIN:VCALENDAR
VERSION:2.0
PRODID:-//Irish PDX - ECPv6.15.20//NONSGML v1.0//EN
CALSCALE:GREGORIAN
METHOD:PUBLISH
X-WR-CALNAME:Irish PDX
X-ORIGINAL-URL:https://irishpdx.com
X-WR-CALDESC:Events for Irish PDX
REFRESH-INTERVAL;VALUE=DURATION:PT1H
X-Robots-Tag:noindex
X-PUBLISHED-TTL:PT1H
BEGIN:VTIMEZONE
TZID:America/Los_Angeles
BEGIN:DAYLIGHT
TZOFFSETFROM:-0800
TZOFFSETTO:-0700
TZNAME:PDT
DTSTART:20230312T100000
END:DAYLIGHT
BEGIN:STANDARD
TZOFFSETFROM:-0700
TZOFFSETTO:-0800
TZNAME:PST
DTSTART:20231105T090000
END:STANDARD
BEGIN:DAYLIGHT
TZOFFSETFROM:-0800
TZOFFSETTO:-0700
TZNAME:PDT
DTSTART:20240310T100000
END:DAYLIGHT
BEGIN:STANDARD
TZOFFSETFROM:-0700
TZOFFSETTO:-0800
TZNAME:PST
DTSTART:20241103T090000
END:STANDARD
BEGIN:DAYLIGHT
TZOFFSETFROM:-0800
TZOFFSETTO:-0700
TZNAME:PDT
DTSTART:20250309T100000
END:DAYLIGHT
BEGIN:STANDARD
TZOFFSETFROM:-0700
TZOFFSETTO:-0800
TZNAME:PST
DTSTART:20251102T090000
END:STANDARD
BEGIN:DAYLIGHT
TZOFFSETFROM:-0800
TZOFFSETTO:-0700
TZNAME:PDT
DTSTART:20260308T100000
END:DAYLIGHT
BEGIN:STANDARD
TZOFFSETFROM:-0700
TZOFFSETTO:-0800
TZNAME:PST
DTSTART:20261101T090000
END:STANDARD
BEGIN:DAYLIGHT
TZOFFSETFROM:-0800
TZOFFSETTO:-0700
TZNAME:PDT
DTSTART:20270314T100000
END:DAYLIGHT
BEGIN:STANDARD
TZOFFSETFROM:-0700
TZOFFSETTO:-0800
TZNAME:PST
DTSTART:20271107T090000
END:STANDARD
END:VTIMEZONE
BEGIN:VEVENT
DTSTART;TZID=America/Los_Angeles:20260411T193000
DTEND;TZID=America/Los_Angeles:20260411T220000
DTSTAMP:20260425T053044
CREATED:20250528T201729Z
LAST-MODIFIED:20260320T134520Z
UID:10000726-1775935800-1775944800@irishpdx.com
SUMMARY:TRADMILL - April 11\, 2026 - 2nd Saturday Community Concert
DESCRIPTION:Doors 6:45\, show 7:30pm \nTickets
URL:https://irishpdx.com/event/tradmill-april-11-2026-2nd-saturday-community-concert/
LOCATION:Winona Grange 271\, 8340 SW Seneca St\, Tualatin\, OR\, 97062\, United States
CATEGORIES:Concert
ORGANIZER;CN="IrishPDX":MAILTO:sam.keator@frontier.com
GEO:45.383179;-122.7623085
X-APPLE-STRUCTURED-LOCATION;VALUE=URI;X-ADDRESS=Winona Grange 271 8340 SW Seneca St Tualatin OR 97062 United States;X-APPLE-RADIUS=500;X-TITLE=8340 SW Seneca St:geo:-122.7623085,45.383179
END:VEVENT
BEGIN:VEVENT
DTSTART;TZID=America/Los_Angeles:20251108T193000
DTEND;TZID=America/Los_Angeles:20251108T220000
DTSTAMP:20260425T053044
CREATED:20250711T194356Z
LAST-MODIFIED:20251102T214535Z
UID:10000730-1762630200-1762639200@irishpdx.com
SUMMARY:The Horsenecks - 2nd Saturday Community Concert - CANCELLED
DESCRIPTION:Sorry the show is cancelled
URL:https://irishpdx.com/event/the-horsenecks-2nd-saturday-community-concert/
LOCATION:Winona Grange 271\, 8340 SW Seneca St\, Tualatin\, OR\, 97062\, United States
CATEGORIES:Concert
ORGANIZER;CN="IrishPDX":MAILTO:sam.keator@frontier.com
GEO:45.383179;-122.7623085
X-APPLE-STRUCTURED-LOCATION;VALUE=URI;X-ADDRESS=Winona Grange 271 8340 SW Seneca St Tualatin OR 97062 United States;X-APPLE-RADIUS=500;X-TITLE=8340 SW Seneca St:geo:-122.7623085,45.383179
END:VEVENT
BEGIN:VEVENT
DTSTART;TZID=America/Los_Angeles:20251031T193000
DTEND;TZID=America/Los_Angeles:20251031T220000
DTSTAMP:20260425T053044
CREATED:20250218T193439Z
LAST-MODIFIED:20251010T155334Z
UID:10000716-1761939000-1761948000@irishpdx.com
SUMMARY:Reverie Road - Oregon Samhain concert - Not to miss
DESCRIPTION:Celebrate Samhain on Friday\, October 31\, 2025 Door 6:45\, show 7:30 \nTix https://www.tickettomato.com/event/9226/reverie-road-special-celtic-concert
URL:https://irishpdx.com/event/reverie-road-special-celtic-concert/
LOCATION:Winona Grange 271\, 8340 SW Seneca St\, Tualatin\, OR\, 97062\, United States
CATEGORIES:Concert
ORGANIZER;CN="IrishPDX":MAILTO:sam.keator@frontier.com
GEO:45.383179;-122.7623085
X-APPLE-STRUCTURED-LOCATION;VALUE=URI;X-ADDRESS=Winona Grange 271 8340 SW Seneca St Tualatin OR 97062 United States;X-APPLE-RADIUS=500;X-TITLE=8340 SW Seneca St:geo:-122.7623085,45.383179
END:VEVENT
BEGIN:VEVENT
DTSTART;TZID=America/Los_Angeles:20251011T193000
DTEND;TZID=America/Los_Angeles:20251011T220000
DTSTAMP:20260425T053044
CREATED:20250519T181210Z
LAST-MODIFIED:20250903T150854Z
UID:10000725-1760211000-1760220000@irishpdx.com
SUMMARY:2nd Saturday Community Concert - Soulard Boys\, Johnny Connolly\, Kevin Buckley\, Cary Novotny\, and Dan Lowery
DESCRIPTION:More info and tickets at https://www.tickettomato.com/event/9464
URL:https://irishpdx.com/event/colin-farrell-johnny-connolly-and-cary-novotny-kick-off-2nd-saturday-community-concerts-25-26/
LOCATION:Winona Grange 271\, 8340 SW Seneca St\, Tualatin\, OR\, 97062\, United States
ORGANIZER;CN="IrishPDX":MAILTO:sam.keator@frontier.com
GEO:45.383179;-122.7623085
X-APPLE-STRUCTURED-LOCATION;VALUE=URI;X-ADDRESS=Winona Grange 271 8340 SW Seneca St Tualatin OR 97062 United States;X-APPLE-RADIUS=500;X-TITLE=8340 SW Seneca St:geo:-122.7623085,45.383179
END:VEVENT
BEGIN:VEVENT
DTSTART;TZID=America/Los_Angeles:20250412T193000
DTEND;TZID=America/Los_Angeles:20250412T213000
DTSTAMP:20260425T053044
CREATED:20240622T165056Z
LAST-MODIFIED:20240622T165056Z
UID:10000440-1744486200-1744493400@irishpdx.com
SUMMARY:Bon Debarras - 2nd Saturday Community Concert
DESCRIPTION:Tickets and more info
URL:https://irishpdx.com/event/bon-debarras-2nd-saturday-community-concert/
LOCATION:Winona Grange 271\, 8340 SW Seneca St\, Tualatin\, OR\, 97062\, United States
CATEGORIES:Concert,Dance
ORGANIZER;CN="IrishPDX":MAILTO:sam.keator@frontier.com
GEO:45.383179;-122.7623085
X-APPLE-STRUCTURED-LOCATION;VALUE=URI;X-ADDRESS=Winona Grange 271 8340 SW Seneca St Tualatin OR 97062 United States;X-APPLE-RADIUS=500;X-TITLE=8340 SW Seneca St:geo:-122.7623085,45.383179
END:VEVENT
BEGIN:VEVENT
DTSTART;TZID=America/Los_Angeles:20250308T193000
DTEND;TZID=America/Los_Angeles:20250308T220000
DTSTAMP:20260425T053044
CREATED:20250107T201633Z
LAST-MODIFIED:20250107T201633Z
UID:10000712-1741462200-1741471200@irishpdx.com
SUMMARY:Open the Door for Three  - 2nd Saturday Community Concert
DESCRIPTION:A most special return of Open the Door for Three! Tickets at https://www.tickettomato.com/event/8860/
URL:https://irishpdx.com/event/open-the-door-for-three-2nd-saturday-community-concert/
LOCATION:Winona Grange 271\, 8340 SW Seneca St\, Tualatin\, OR\, 97062\, United States
CATEGORIES:Concert
ORGANIZER;CN="IrishPDX":MAILTO:sam.keator@frontier.com
GEO:45.383179;-122.7623085
X-APPLE-STRUCTURED-LOCATION;VALUE=URI;X-ADDRESS=Winona Grange 271 8340 SW Seneca St Tualatin OR 97062 United States;X-APPLE-RADIUS=500;X-TITLE=8340 SW Seneca St:geo:-122.7623085,45.383179
END:VEVENT
BEGIN:VEVENT
DTSTART;TZID=America/Los_Angeles:20250208T193000
DTEND;TZID=America/Los_Angeles:20250208T213000
DTSTAMP:20260425T053044
CREATED:20240614T195851Z
LAST-MODIFIED:20240614T195851Z
UID:10000439-1739043000-1739050200@irishpdx.com
SUMMARY:An evening with Johnny B. Connolly\, John Weed and Cary Novotny - 2nd Saturday Community Concert
DESCRIPTION:Tickets
URL:https://irishpdx.com/event/an-evening-with-johnny-b-connolly-john-weed-and-cary-novotny-2nd-saturday-community-concert/
LOCATION:Winona Grange 271\, 8340 SW Seneca St\, Tualatin\, OR\, 97062\, United States
CATEGORIES:Concert
ORGANIZER;CN="IrishPDX":MAILTO:sam.keator@frontier.com
GEO:45.383179;-122.7623085
X-APPLE-STRUCTURED-LOCATION;VALUE=URI;X-ADDRESS=Winona Grange 271 8340 SW Seneca St Tualatin OR 97062 United States;X-APPLE-RADIUS=500;X-TITLE=8340 SW Seneca St:geo:-122.7623085,45.383179
END:VEVENT
BEGIN:VEVENT
DTSTART;TZID=America/Los_Angeles:20250111T193000
DTEND;TZID=America/Los_Angeles:20250111T213000
DTSTAMP:20260425T053044
CREATED:20241123T212145Z
LAST-MODIFIED:20241123T212145Z
UID:10000710-1736623800-1736631000@irishpdx.com
SUMMARY:Katie Jane Band - 2nd Saturday Community Concert and CD Release
DESCRIPTION:High-speed Celtic fiddling meets rich vocal harmonies as the energetic Katie Jane Band takes the stage. Known as Portlands hottest fiddler\, Katie Jane Lubiens lights up the stage with her blazing fiddle fingers and charismatic smile. \nEarly tix https://www.tickettomato.com/event/8884/ $30 door
URL:https://irishpdx.com/event/katie-jane-band-2nd-saturday-community-concert-and-cd-release/
LOCATION:Winona Grange 271\, 8340 SW Seneca St\, Tualatin\, OR\, 97062\, United States
CATEGORIES:Concert
ORGANIZER;CN="IrishPDX":MAILTO:sam.keator@frontier.com
GEO:45.383179;-122.7623085
X-APPLE-STRUCTURED-LOCATION;VALUE=URI;X-ADDRESS=Winona Grange 271 8340 SW Seneca St Tualatin OR 97062 United States;X-APPLE-RADIUS=500;X-TITLE=8340 SW Seneca St:geo:-122.7623085,45.383179
END:VEVENT
BEGIN:VEVENT
DTSTART;TZID=America/Los_Angeles:20241012T193000
DTEND;TZID=America/Los_Angeles:20241012T213000
DTSTAMP:20260425T053044
CREATED:20240327T175743Z
LAST-MODIFIED:20240329T181625Z
UID:10000228-1728761400-1728768600@irishpdx.com
SUMMARY:Golden Bough - Kickoff 2nd Saturday Community Concert series 24-25
DESCRIPTION:Tickets for this concert and more info
URL:https://irishpdx.com/event/golden-bough-kickoff-2nd-saturday-community-concert-series-24-25/
LOCATION:Winona Grange 271\, 8340 SW Seneca St\, Tualatin\, OR\, 97062\, United States
CATEGORIES:Concert
ORGANIZER;CN="IrishPDX":MAILTO:sam.keator@frontier.com
GEO:45.383179;-122.7623085
X-APPLE-STRUCTURED-LOCATION;VALUE=URI;X-ADDRESS=Winona Grange 271 8340 SW Seneca St Tualatin OR 97062 United States;X-APPLE-RADIUS=500;X-TITLE=8340 SW Seneca St:geo:-122.7623085,45.383179
END:VEVENT
END:VCALENDAR